BEGIN:VCALENDAR
VERSION:2.0
PRODID:icalendar-ruby
CALSCALE:GREGORIAN
METHOD:PUBLISH
BEGIN:VEVENT
DTSTAMP:20260423T044820Z
UID:17-1119001@tbcmoultrie.com
DTSTART:20260919T211500Z
DTEND:20260920T000000Z
CLASS:PUBLIC
CREATED:20260422T223713
DESCRIPTION:The Purpose of Temple Baptist Church’s Celebrate Recovery Min
 istry is to offer hope through our Lord and Savior Jesus Christ and to cel
 ebrate God’s healing power in our lives through the programs eight recov
 ery principles. This allows those who work through the program to experien
 ce profound life change and freedom from their hurts\, hang-ups and habits
 .  By working and applying these biblical principles\, we began to grow 
 spiritually.  We become free from our addictive\, compulsive and dysfunc
 tional behaviors.  This freedom creates peace\, serenity\, joy and most 
 importantly a stronger personal relationship with God and with others.  J
 oin us for a time of worship\, reflection\, and testimony on Saturday nigh
 ts beginning with the Main Session at 6PM. Celebrate Reovery is a safe pla
 ce with no condemnation\; only love\, hope and a way out of hurts hangups 
 and addictions. You can find out more info about Celebrate Recovery here: 
 https://www.tbcmoultrie.com/ministries/celebrate-recovery
LAST-MODIFIED:20260422T223713
LOCATION:
SUMMARY:Celebrate Recovery (CR)
URL;VALUE=URI:https://www.tbcmoultrie.com/events/celebrate-recovery-cr/2026
 -09-19
ATTACH;FILENAME=CR-Graphic.jpg;FMTTYPE=image/jpeg:https://dq5pwpg1q8ru0.clo
 udfront.net/2024/12/20/17/06/20/a462f074-a19f-4eee-ae62-a01402e68c97/CR-Gr
 aphic.jpg
END:VEVENT
END:VCALENDAR
